BEGIN:VCALENDAR
VERSION:2.0
PRODID:-//LG Kurpfalz - ECPv6.15.11//NONSGML v1.0//EN
CALSCALE:GREGORIAN
METHOD:PUBLISH
X-WR-CALNAME:LG Kurpfalz
X-ORIGINAL-URL:https://lgkurpfalz.de
X-WR-CALDESC:Veranstaltungen für LG Kurpfalz
REFRESH-INTERVAL;VALUE=DURATION:PT1H
X-Robots-Tag:noindex
X-PUBLISHED-TTL:PT1H
BEGIN:VTIMEZONE
TZID:UTC
BEGIN:STANDARD
TZOFFSETFROM:+0000
TZOFFSETTO:+0000
TZNAME:UTC
DTSTART:20240101T000000
END:STANDARD
END:VTIMEZONE
BEGIN:VEVENT
DTSTART;VALUE=DATE:20250112
DTEND;VALUE=DATE:20250113
DTSTAMP:20260422T063835
CREATED:20250102T154105Z
LAST-MODIFIED:20250102T160333Z
UID:6124-1736640000-1736726399@lgkurpfalz.de
SUMMARY:Hallensportfest Aktive\, Jugend U20/U18
DESCRIPTION:Info zur Wettkampf: \nhttps://ladv.de/ausschreibung/detail/41479/Hallensportfest-Aktive-Jugend-U20-U18-Mannheim.htm \n  \n 
URL:https://lgkurpfalz.de/termin/hallensportfest-aktive-jugend-u20-u18/
LOCATION:MTG Mannheim\, Im Pfeifferswörth 13\, Mannheim\, 68167\, Germany
END:VEVENT
END:VCALENDAR