BEGIN:VCALENDAR
VERSION:2.0
PRODID:-//LG Kurpfalz - ECPv6.15.11//NONSGML v1.0//EN
CALSCALE:GREGORIAN
METHOD:PUBLISH
X-WR-CALNAME:LG Kurpfalz
X-ORIGINAL-URL:https://lgkurpfalz.de
X-WR-CALDESC:Veranstaltungen für LG Kurpfalz
REFRESH-INTERVAL;VALUE=DURATION:PT1H
X-Robots-Tag:noindex
X-PUBLISHED-TTL:PT1H
BEGIN:VTIMEZONE
TZID:UTC
BEGIN:STANDARD
TZOFFSETFROM:+0000
TZOFFSETTO:+0000
TZNAME:UTC
DTSTART:20250101T000000
END:STANDARD
END:VTIMEZONE
BEGIN:VEVENT
DTSTART;VALUE=DATE:20260501
DTEND;VALUE=DATE:20260502
DTSTAMP:20260420T054204
CREATED:20250404T092727Z
LAST-MODIFIED:20260414T090740Z
UID:6592-1777593600-1777679999@lgkurpfalz.de
SUMMARY:Bahneröffnung Mannheim
DESCRIPTION:Bahneröffnung
URL:https://lgkurpfalz.de/termin/bahneroeffnung-mannheim/
CATEGORIES:Wettkämpfe
END:VEVENT
BEGIN:VEVENT
DTSTART;VALUE=DATE:20260501
DTEND;VALUE=DATE:20260502
DTSTAMP:20260420T054204
CREATED:20250415T084640Z
LAST-MODIFIED:20260414T090639Z
UID:7024-1777593600-1777679999@lgkurpfalz.de
SUMMARY:1. Mai Sportfest SV Rohrhof
DESCRIPTION:
URL:https://lgkurpfalz.de/termin/1-mai-sportfest-sv-rohrhof/
LOCATION:Stadion des SV Rohrhof\, Gartenstraße 45\, Brühl-Rohrhof\, 68782\, Germany
CATEGORIES:LG Meeting
END:VEVENT
END:VCALENDAR