BEGIN:VCALENDAR
VERSION:2.0
PRODID:-//LG Kurpfalz - ECPv6.15.11//NONSGML v1.0//EN
CALSCALE:GREGORIAN
METHOD:PUBLISH
X-WR-CALNAME:LG Kurpfalz
X-ORIGINAL-URL:https://lgkurpfalz.de
X-WR-CALDESC:Veranstaltungen für LG Kurpfalz
REFRESH-INTERVAL;VALUE=DURATION:PT1H
X-Robots-Tag:noindex
X-PUBLISHED-TTL:PT1H
BEGIN:VTIMEZONE
TZID:UTC
BEGIN:STANDARD
TZOFFSETFROM:+0000
TZOFFSETTO:+0000
TZNAME:UTC
DTSTART:20250101T000000
END:STANDARD
END:VTIMEZONE
BEGIN:VEVENT
DTSTART;VALUE=DATE:20260509
DTEND;VALUE=DATE:20260510
DTSTAMP:20260420T071956
CREATED:20250415T084010Z
LAST-MODIFIED:20260414T112048Z
UID:7015-1778284800-1778371199@lgkurpfalz.de
SUMMARY:LG Kurpfalz Meeting
DESCRIPTION:Zur Ausschreibung.
URL:https://lgkurpfalz.de/termin/lg-kurpfalz-meeting/
LOCATION:Stadion der TSG Ketsch\, Am Waldsportplatz 4\, Ketsch\, 68775\, Germany
CATEGORIES:LG Meeting
END:VEVENT
END:VCALENDAR