BEGIN:VCALENDAR
VERSION:2.0
PRODID:-//LG Kurpfalz - ECPv6.15.11//NONSGML v1.0//EN
CALSCALE:GREGORIAN
METHOD:PUBLISH
X-ORIGINAL-URL:https://lgkurpfalz.de
X-WR-CALDESC:Veranstaltungen für LG Kurpfalz
REFRESH-INTERVAL;VALUE=DURATION:PT1H
X-Robots-Tag:noindex
X-PUBLISHED-TTL:PT1H
BEGIN:VTIMEZONE
TZID:UTC
BEGIN:STANDARD
TZOFFSETFROM:+0000
TZOFFSETTO:+0000
TZNAME:UTC
DTSTART:20240101T000000
END:STANDARD
END:VTIMEZONE
BEGIN:VEVENT
DTSTART;VALUE=DATE:20250726
DTEND;VALUE=DATE:20250727
DTSTAMP:20260420T034437
CREATED:20250415T085604Z
LAST-MODIFIED:20250415T090041Z
UID:7028-1753488000-1753574399@lgkurpfalz.de
SUMMARY:BSMM Kreispokal
DESCRIPTION:
URL:https://lgkurpfalz.de/termin/bsmm-kreispokal/
LOCATION:TSV-Sportplatz in Oftersheim\, Jahnstraße 9\, Oftersheim\, 68723\, Germany
CATEGORIES:LG Meeting
END:VEVENT
BEGIN:VEVENT
DTSTART;TZID=UTC:20250711T080000
DTEND;TZID=UTC:20250711T170000
DTSTAMP:20260420T034437
CREATED:20250410T060749Z
LAST-MODIFIED:20250410T063347Z
UID:6873-1752220800-1752253200@lgkurpfalz.de
SUMMARY:DM U18/U20
DESCRIPTION:
URL:https://lgkurpfalz.de/termin/dm-u18-u20/
LOCATION:Lohrheidestadion\, Lohrheidestr. 82\, Bochum-Wattenscheid\, 44866\, Germany
CATEGORIES:Wettkämpfe
END:VEVENT
BEGIN:VEVENT
DTSTART;TZID=UTC:20250517T080000
DTEND;TZID=UTC:20250517T170000
DTSTAMP:20260420T034437
CREATED:20250404T093743Z
LAST-MODIFIED:20250410T063407Z
UID:6596-1747468800-1747501200@lgkurpfalz.de
SUMMARY:Sommersportfest Seckenheim Blockmehrkämpfe
DESCRIPTION:
URL:https://lgkurpfalz.de/termin/sommersportfest-seckenheim-blockmehrkaempfe/
CATEGORIES:Wettkämpfe
END:VEVENT
BEGIN:VEVENT
DTSTART;TZID=UTC:20250412T080000
DTEND;TZID=UTC:20250412T170000
DTSTAMP:20260420T034437
CREATED:20250404T090302Z
LAST-MODIFIED:20250410T063427Z
UID:6577-1744444800-1744477200@lgkurpfalz.de
SUMMARY:RNK Langstrecken Meisterschaften
DESCRIPTION:
URL:https://lgkurpfalz.de/termin/rnk-langstrecken-meisterschaften/
LOCATION:Stadion DJK Hockenheim\, Nordring 1\, Hockenheim\, 68766\, Germany
CATEGORIES:Wettkämpfe
END:VEVENT
BEGIN:VEVENT
DTSTART;TZID=UTC:20250404T080000
DTEND;TZID=UTC:20250404T170000
DTSTAMP:20260420T034437
CREATED:20250404T092050Z
LAST-MODIFIED:20250410T063433Z
UID:6586-1743753600-1743786000@lgkurpfalz.de
SUMMARY:BaWü Meisterschaften Langstrecke
DESCRIPTION:
URL:https://lgkurpfalz.de/termin/bawue-meisterschaften-langstrecke/
LOCATION:Rheinstadion Kehl\, Stadionstr. 1\, Kehl\, 77694\, Germany
CATEGORIES:Wettkämpfe
END:VEVENT
BEGIN:VEVENT
DTSTART;TZID=UTC:20250125T183000
DTEND;TZID=UTC:20250125T213000
DTSTAMP:20260420T034437
CREATED:20250102T153355Z
LAST-MODIFIED:20250102T153355Z
UID:6113-1737829800-1737840600@lgkurpfalz.de
SUMMARY:Ehrungsabend
DESCRIPTION:
URL:https://lgkurpfalz.de/termin/ehrungsabend/
LOCATION:Rosesaal Oftersheim\, Mannheimer Straße 95\, Oftersheim\, 68723\, Germany
END:VEVENT
BEGIN:VEVENT
DTSTART;VALUE=DATE:20250112
DTEND;VALUE=DATE:20250113
DTSTAMP:20260420T034437
CREATED:20250102T154105Z
LAST-MODIFIED:20250102T160333Z
UID:6124-1736640000-1736726399@lgkurpfalz.de
SUMMARY:Hallensportfest Aktive\, Jugend U20/U18
DESCRIPTION:Info zur Wettkampf: \nhttps://ladv.de/ausschreibung/detail/41479/Hallensportfest-Aktive-Jugend-U20-U18-Mannheim.htm \n  \n 
URL:https://lgkurpfalz.de/termin/hallensportfest-aktive-jugend-u20-u18/
LOCATION:MTG Mannheim\, Im Pfeifferswörth 13\, Mannheim\, 68167\, Germany
END:VEVENT
END:VCALENDAR