BEGIN:VCALENDAR
VERSION:2.0
PRODID:-//LG Kurpfalz - ECPv6.15.11//NONSGML v1.0//EN
CALSCALE:GREGORIAN
METHOD:PUBLISH
X-ORIGINAL-URL:https://lgkurpfalz.de
X-WR-CALDESC:Veranstaltungen für LG Kurpfalz
REFRESH-INTERVAL;VALUE=DURATION:PT1H
X-Robots-Tag:noindex
X-PUBLISHED-TTL:PT1H
BEGIN:VTIMEZONE
TZID:UTC
BEGIN:STANDARD
TZOFFSETFROM:+0000
TZOFFSETTO:+0000
TZNAME:UTC
DTSTART:20240101T000000
END:STANDARD
END:VTIMEZONE
BEGIN:VEVENT
DTSTART;TZID=UTC:20250711T080000
DTEND;TZID=UTC:20250711T170000
DTSTAMP:20260421T190234
CREATED:20250410T060749Z
LAST-MODIFIED:20250410T063347Z
UID:6873-1752220800-1752253200@lgkurpfalz.de
SUMMARY:DM U18/U20
DESCRIPTION:
URL:https://lgkurpfalz.de/termin/dm-u18-u20/
LOCATION:Lohrheidestadion\, Lohrheidestr. 82\, Bochum-Wattenscheid\, 44866\, Germany
CATEGORIES:Wettkämpfe
END:VEVENT
BEGIN:VEVENT
DTSTART;VALUE=DATE:20250726
DTEND;VALUE=DATE:20250727
DTSTAMP:20260421T190234
CREATED:20250415T085604Z
LAST-MODIFIED:20250415T090041Z
UID:7028-1753488000-1753574399@lgkurpfalz.de
SUMMARY:BSMM Kreispokal
DESCRIPTION:
URL:https://lgkurpfalz.de/termin/bsmm-kreispokal/
LOCATION:TSV-Sportplatz in Oftersheim\, Jahnstraße 9\, Oftersheim\, 68723\, Germany
CATEGORIES:LG Meeting
END:VEVENT
END:VCALENDAR